{"text_format":"1","workbook":"xlsx","n_sheets":6,"sheets":["Simulatore","calcoli","Preferenze lista 1","Preferenze lista 2","Preferenze lista 3","Comuni e fasce"],"not_rendered":{"charts":0,"images":0,"macros":1,"external_links":0,"defined_names":2,"comments":1,"pivot_tables":0},"unopened":[],"bounds":{"document_bytes":16777216,"sheet_cells":100000,"rows_first":2000,"rows_last":500,"rows_between":2000,"halvings":0,"cell_chars":16384,"cell_head_chars":4096},"cells_cut":0,"cells_raw":0,"read":"whole","date_system":"1900"}

{"sheet":"Simulatore","index":0,"n_rows":47,"n_cols":16,"rows_kept":47,"cut":false,"hidden":false,"merged":[[45,14,45,15],[0,0,0,15],[21,0,21,15],[17,0,17,2],[1,0,1,15],[5,3,5,13],[2,13,3,13]]}
["SIMULATORE DI VOTO ELEZIONE DEL CONSIGLIO METROPOLITANO DI VENEZIA - 9 agosto 2015 - (legge 56/2014)"]
["Il simulatore va utilizzato con almeno 2 liste. Inserire i dati utilizzando i campi blu sottolineati."]
["N. consiglieri da eleggere",null,null,"lista 1","lista 2","lista 3","lista 4","lista 5","lista 6","lista 7","lista 8","lista 9","lista 10",{"$f":"IF(SUM(D4:M4)=0,\" \",IF(SUM(D4:M4)<$A$4,\"Attenzione: inserita una sola lista\",\" \"))","v":" "}]
[18,"Inserire N. canditati di lista                     ==>",null,0,0,0,0,0,0,0,0,0,0]
[]
["Fasce demografiche","Indici di ponderazione dei voti (presunti)","Colore scheda","N. VOTI \n(Inserire simulazione di voto)\nAVVERTENZA: non utilizzare le funzioni di TAGLIA, COPIA ed INCOLLA o il TRASCINAMENTO CELLE per evitare di perdere i controlli sui dati.",null,null,null,null,null,null,null,null,null,null,"Voti espressi per fascia","N. max voti per fascia\n(al 16 luglio 2015)"]
["fino 3.000",30,"AZZURRO",0,0,0,0,0,0,0,0,0,0,null,{"$f":"IF(SUM($D$7:$M$7)>$P$7,\"troppi voti\",SUM($D$7:$M$7))","v":0},{"$f":"'Comuni e fasce'!H4","v":22}]
["da 3.001 a 5.000",43,"ARANCIONE",0,0,0,0,0,0,0,0,0,0,null,{"$f":"IF(SUM($D$8:$M$8)>$P$8,\"troppi voti\",SUM($D$8:$M$8))","v":0},{"$f":"'Comuni e fasce'!H12","v":73}]
["da 5.001 a 10.000",76,"GRIGIO",0,0,0,0,0,0,0,0,0,0,null,{"$f":"IF(SUM($D$9:$M$9)>$P$9,\"troppi voti\",SUM($D$9:$M$9))","v":0},{"$f":"'Comuni e fasce'!H24","v":126}]
["da 10.001 a 30.000",99,"ROSSO",0,0,0,0,0,0,0,0,0,0,null,{"$f":"IF(SUM($D$10:$M$10)>$P$10,\"troppi voti\",SUM($D$10:$M$10))","v":0},{"$f":"'Comuni e fasce'!H48","v":352}]
["da 30.001 a 100.000",227,"VERDE",0,0,0,0,0,0,0,0,0,0,null,{"$f":"IF(SUM($D$11:$M$11)>$P$11,\"troppi voti\",SUM($D$11:$M$11))","v":0},{"$f":"'Comuni e fasce'!H53","v":75}]
["da 100.001 a 250.000",0,"VIOLA",0,0,0,0,0,0,0,0,0,0,null,{"$f":"IF(SUM($D$12:$M$12)>$P$12,\"troppi voti\",SUM($D$12:$M$12))","v":0},0]
["da 250.001 a 500.000",932,"GIALLO",0,0,0,0,0,0,0,0,0,0,null,{"$f":"IF(SUM($D$13:$M$13)>$P$13,\"troppi voti\",SUM($D$13:$M$13))","v":0},{"$f":"'Comuni e fasce'!H58","v":37}]
["da 500.001 a 1.000.000",0,"MARRONE",0,0,0,0,0,0,0,0,0,0,null,{"$f":"IF(SUM($D$14:$M$14)>$P$14,\"troppi voti\",SUM($D$14:$M$14))","v":0},0]
["oltre 1.000.000",0,"BLU",0,0,0,0,0,0,0,0,0,0,null,{"$f":"IF(SUM($D$15:$M$15)>$P$15,\"troppi voti\",SUM($D$15:$M$15))","v":0},0]
["Voti ottenuti",null,null,{"$f":"IF(D4=0,IF(SUM(D7:D15)>0,\"inserire N. candidati di lista\",0),SUM((D7:D15)))","v":0},{"$f":"IF(E4=0,IF(SUM(E7:E15)>0,\"inserire N. candidati di lista\",0),SUM((E7:E15)))","v":0},{"$f":"IF(F4=0,IF(SUM(F7:F15)>0,\"inserire N. candidati di lista\",0),SUM((F7:F15)))","v":0},{"$f":"IF(G4=0,IF(SUM(G7:G15)>0,\"inserire N. candidati di lista\",0),SUM((G7:G15)))","v":0},{"$f":"IF(H4=0,IF(SUM(H7:H15)>0,\"inserire N. candidati di lista\",0),SUM((H7:H15)))","v":0},0,{"$f":"IF(J4=0,IF(SUM(J7:J15)>0,\"inserire N. candidati di lista\",0),SUM((J7:J15)))","v":0},{"$f":"IF(K4=0,IF(SUM(K7:K15)>0,\"inserire N. candidati di lista\",0),SUM((K7:K15)))","v":0},{"$f":"IF(L4=0,IF(SUM(L7:L15)>0,\"inserire N. candidati di lista\",0),SUM((L7:L15)))","v":0},{"$f":"IF(M4=0,IF(SUM(M7:M15)>0,\"inserire N. candidati di lista\",0),SUM((M7:M15)))","v":0},"Totale voti ottenuti",{"$f":"SUM(O7:O15)","v":0},{"$f":"SUM(P7:P15)","v":685}]
["Risultato ponderato",null,null,{"$f":"(D7*$B$7+D8*$B$8+D9*$B$9+D10*$B$10+D11*$B$11+D12*$B$12+D13*$B$13+D14*$B$14+D15*$B$15)","v":0},0,0,0,0,0,0,0,0,0,"% su votanti",{"$f":"O16/P16%","v":0}]
["Seggi assegnati per lista:",null,null,{"$f":"D46","v":0},{"$f":"E46","v":0},0,0,0,0,0,0,0,0,"Totale seggi",{"$f":"N46","v":0},{"$f":"O46","v":" "}]
[]
["A parità di quoziente il seggio è attribuito alla lista che ha ottenuto la maggiore cifra elettorale e, a parità di quest'ultima, per sorteggio. (ultimo periodo, art. 1 comma 36 legge 56/2014)"]
[]
["Applicazione metodo d'Hondt (art.1 comma 36 legge 56/2012)"]
[]
[null,"Divisori",null,"lista 1","lista 2","lista 3","lista 4","lista 5","lista 6","lista 7","lista 8","lista 9","lista 10"]
[null,1,null,{"$f":"D17","v":0},{"$f":"E17","v":0},0,0,0,0,0,0,0,0]
[null,2,null,{"$f":"$D$25/B26","v":0},{"$f":"$E$25/B26","v":0},{"$f":"$F$25/B26","v":0},{"$f":"$G$25/B26","v":0},{"$f":"$H$25/B26","v":0},{"$f":"$I$25/B26","v":0},{"$f":"$J$25/B26","v":0},{"$f":"$K$25/B26","v":0},{"$f":"$L$25/B26","v":0},{"$f":"$M$25/B26","v":0}]
[null,3,null,{"$f":"$D$25/B27","v":0},0,0,0,0,0,0,0,0,0]
[null,4,null,0,0,0,0,0,0,0,0,0,0]
[null,5,null,0,0,0,0,0,0,0,0,0,0]
[null,6,null,0,0,0,0,0,0,0,0,0,0]
[null,7,null,0,0,0,0,0,0,0,0,0,0]
[null,8,null,{"$f":"IF(($D$4<B32),0,($D$25/B32))","v":0},{"$f":"IF(($E$4<B32),0,($E$25/B32))","v":0},{"$f":"IF(($F$4<B32),0,($F$25/B32))","v":0},{"$f":"IF(($G$4<B32),0,($G$25/B32))","v":0},{"$f":"IF(($H$4<B32),0,($H$25/B32))","v":0},{"$f":"IF(($I$4<B32),0,($I$25/B32))","v":0},{"$f":"IF(($J$4<B32),0,($J$25/B32))","v":0},{"$f":"IF(($K$4<B32),0,($K$25/B32))","v":0},{"$f":"IF(($L$4<B32),0,($L$25/B32))","v":0},{"$f":"IF(($M$4<B32),0,($M$25/B32))","v":0}]
[null,9,null,0,0,0,0,0,0,0,0,0,0]
[null,10,null,0,0,0,0,0,0,0,0,0,0]
[null,11,null,0,0,0,0,0,0,0,0,0,0]
[null,12,null,0,0,0,0,0,0,0,0,0,0]
[null,13,null,0,0,0,0,0,0,0,0,0,0]
[null,14,null,0,0,0,0,0,0,0,0,0,0]
[null,15,null,0,0,0,0,0,0,0,0,0,0]
[null,16,null,0,0,0,0,0,0,0,0,0,0]
[null,17,null,0,0,0,0,0,0,0,0,0,0]
[null,18,null,0,0,0,0,0,0,0,0,0,0]
[]
[]
[null,null,null,null,null,null,null,null,null,null,null,null,null,"TOTALE"]
["SEGGI ASSEGNATI\nPER LISTA",null,null,{"$f":"IF((D25=0),0,calcoli!D34)","v":0},{"$f":"IF((E25=0),0,calcoli!E34)","v":0},{"$f":"IF((F25=0),0,calcoli!F34)","v":0},{"$f":"IF((G25=0),0,calcoli!G34)","v":0},{"$f":"IF((H25=0),0,calcoli!H34)","v":0},{"$f":"IF((I25=0),0,calcoli!I34)","v":0},{"$f":"IF((J25=0),0,calcoli!J34)","v":0},{"$f":"IF((K25=0),0,calcoli!K34)","v":0},{"$f":"IF((L25=0),0,calcoli!L34)","v":0},{"$f":"IF((M25=0),0,calcoli!M34)","v":0},{"$f":"SUM(D46:M46)","v":0},{"$f":"IF((calcoli!D31=calcoli!F31),IF(N46>0,\"parità di quoziente\",\" \"),\" \")","v":" "}]
["A parità di quoziente il seggio è attribuito alla lista che ha ottenuto la maggiore cifra elettorale e, a parità di quest'ultima, per sorteggio. (ultimo periodo, art. 1 comma 36 legge 56/2014)"]

{"sheet":"calcoli","index":1,"n_rows":34,"n_cols":15,"rows_kept":34,"cut":false,"hidden":true,"merged":[]}
[]
[null,{"$f":"IF(Simulatore!D25>Simulatore!B48,\"eletto\",\"no\")","v":"no"},null,{"$f":"Simulatore!D25","v":0},{"$f":"Simulatore!E25","v":0},{"$f":"Simulatore!F25","v":0},{"$f":"Simulatore!G25","v":0},{"$f":"Simulatore!H25","v":0},{"$f":"Simulatore!I25","v":0},{"$f":"Simulatore!J25","v":0},{"$f":"Simulatore!K25","v":0},{"$f":"Simulatore!L25","v":0},{"$f":"Simulatore!M25","v":0}]
[null,{"$f":"IF(Simulatore!D36>Simulatore!B48,\"eletto\",\"no\")","v":"no"},null,{"$f":"Simulatore!D26","v":0},{"$f":"Simulatore!E26","v":0},{"$f":"Simulatore!F26","v":0},{"$f":"Simulatore!G26","v":0},{"$f":"Simulatore!H26","v":0},{"$f":"Simulatore!I26","v":0},{"$f":"Simulatore!J26","v":0},{"$f":"Simulatore!K26","v":0},{"$f":"Simulatore!L26","v":0},{"$f":"Simulatore!M26","v":0}]
[null,null,null,{"$f":"Simulatore!D27","v":0},{"$f":"Simulatore!E27","v":0},{"$f":"Simulatore!F27","v":0},{"$f":"Simulatore!G27","v":0},{"$f":"Simulatore!H27","v":0},{"$f":"Simulatore!I27","v":0},{"$f":"Simulatore!J27","v":0},{"$f":"Simulatore!K27","v":0},{"$f":"Simulatore!L27","v":0},{"$f":"Simulatore!M27","v":0}]
[null,null,null,{"$f":"Simulatore!D28","v":0},{"$f":"Simulatore!E28","v":0},{"$f":"Simulatore!F28","v":0},{"$f":"Simulatore!G28","v":0},{"$f":"Simulatore!H28","v":0},{"$f":"Simulatore!I28","v":0},{"$f":"Simulatore!J28","v":0},{"$f":"Simulatore!K28","v":0},{"$f":"Simulatore!L28","v":0},{"$f":"Simulatore!M28","v":0}]
[null,null,null,{"$f":"Simulatore!D29","v":0},{"$f":"Simulatore!E29","v":0},{"$f":"Simulatore!F29","v":0},{"$f":"Simulatore!G29","v":0},{"$f":"Simulatore!H29","v":0},{"$f":"Simulatore!I29","v":0},{"$f":"Simulatore!J29","v":0},{"$f":"Simulatore!K29","v":0},{"$f":"Simulatore!L29","v":0},{"$f":"Simulatore!M29","v":0}]
[null,null,null,{"$f":"Simulatore!D30","v":0},{"$f":"Simulatore!E30","v":0},{"$f":"Simulatore!F30","v":0},{"$f":"Simulatore!G30","v":0},{"$f":"Simulatore!H30","v":0},{"$f":"Simulatore!I30","v":0},{"$f":"Simulatore!J30","v":0},{"$f":"Simulatore!K30","v":0},{"$f":"Simulatore!L30","v":0},{"$f":"Simulatore!M30","v":0}]
[null,null,null,{"$f":"Simulatore!D31","v":0},{"$f":"Simulatore!E31","v":0},{"$f":"Simulatore!F31","v":0},{"$f":"Simulatore!G31","v":0},{"$f":"Simulatore!H31","v":0},{"$f":"Simulatore!I31","v":0},{"$f":"Simulatore!J31","v":0},{"$f":"Simulatore!K31","v":0},{"$f":"Simulatore!L31","v":0},{"$f":"Simulatore!M31","v":0}]
[null,null,null,{"$f":"Simulatore!D32","v":0},{"$f":"Simulatore!E32","v":0},{"$f":"Simulatore!F32","v":0},{"$f":"Simulatore!G32","v":0},{"$f":"Simulatore!H32","v":0},{"$f":"Simulatore!I32","v":0},{"$f":"Simulatore!J32","v":0},{"$f":"Simulatore!K32","v":0},{"$f":"Simulatore!L32","v":0},{"$f":"Simulatore!M32","v":0}]
[null,null,null,{"$f":"Simulatore!D33","v":0},{"$f":"Simulatore!E33","v":0},{"$f":"Simulatore!F33","v":0},{"$f":"Simulatore!G33","v":0},{"$f":"Simulatore!H33","v":0},{"$f":"Simulatore!I33","v":0},{"$f":"Simulatore!J33","v":0},{"$f":"Simulatore!K33","v":0},{"$f":"Simulatore!L33","v":0},{"$f":"Simulatore!M33","v":0}]
[null,null,null,{"$f":"Simulatore!D34","v":0},{"$f":"Simulatore!E34","v":0},{"$f":"Simulatore!F34","v":0},{"$f":"Simulatore!G34","v":0},{"$f":"Simulatore!H34","v":0},{"$f":"Simulatore!I34","v":0},{"$f":"Simulatore!J34","v":0},{"$f":"Simulatore!K34","v":0},{"$f":"Simulatore!L34","v":0},{"$f":"Simulatore!M34","v":0}]
[null,null,null,{"$f":"Simulatore!D35","v":0},{"$f":"Simulatore!E35","v":0},{"$f":"Simulatore!F35","v":0},{"$f":"Simulatore!G35","v":0},{"$f":"Simulatore!H35","v":0},{"$f":"Simulatore!I35","v":0},{"$f":"Simulatore!J35","v":0},{"$f":"Simulatore!K35","v":0},{"$f":"Simulatore!L35","v":0},{"$f":"Simulatore!M35","v":0}]
[null,null,null,{"$f":"Simulatore!D36","v":0},{"$f":"Simulatore!E36","v":0},{"$f":"Simulatore!F36","v":0},{"$f":"Simulatore!G36","v":0},{"$f":"Simulatore!H36","v":0},{"$f":"Simulatore!I36","v":0},{"$f":"Simulatore!J36","v":0},{"$f":"Simulatore!K36","v":0},{"$f":"Simulatore!L36","v":0},{"$f":"Simulatore!M36","v":0}]
[null,null,null,{"$f":"Simulatore!D37","v":0},{"$f":"Simulatore!E37","v":0},{"$f":"Simulatore!F37","v":0},{"$f":"Simulatore!G37","v":0},{"$f":"Simulatore!H37","v":0},{"$f":"Simulatore!I37","v":0},{"$f":"Simulatore!J37","v":0},{"$f":"Simulatore!K37","v":0},{"$f":"Simulatore!L37","v":0},{"$f":"Simulatore!M37","v":0}]
[null,null,null,{"$f":"Simulatore!D38","v":0},{"$f":"Simulatore!E38","v":0},{"$f":"Simulatore!F38","v":0},{"$f":"Simulatore!G38","v":0},{"$f":"Simulatore!H38","v":0},{"$f":"Simulatore!I38","v":0},{"$f":"Simulatore!J38","v":0},{"$f":"Simulatore!K38","v":0},{"$f":"Simulatore!L38","v":0},{"$f":"Simulatore!M38","v":0}]
[null,null,null,{"$f":"Simulatore!D39","v":0},{"$f":"Simulatore!E39","v":0},{"$f":"Simulatore!F39","v":0},{"$f":"Simulatore!G39","v":0},{"$f":"Simulatore!H39","v":0},{"$f":"Simulatore!I39","v":0},{"$f":"Simulatore!J39","v":0},{"$f":"Simulatore!K39","v":0},{"$f":"Simulatore!L39","v":0},{"$f":"Simulatore!M39","v":0}]
[null,null,null,{"$f":"Simulatore!D40","v":0},{"$f":"Simulatore!E40","v":0},{"$f":"Simulatore!F40","v":0},{"$f":"Simulatore!G40","v":0},{"$f":"Simulatore!H40","v":0},{"$f":"Simulatore!I40","v":0},{"$f":"Simulatore!J40","v":0},{"$f":"Simulatore!K40","v":0},{"$f":"Simulatore!L40","v":0},{"$f":"Simulatore!M40","v":0}]
[null,null,null,{"$f":"Simulatore!D41","v":0},{"$f":"Simulatore!E41","v":0},{"$f":"Simulatore!F41","v":0},{"$f":"Simulatore!G41","v":0},{"$f":"Simulatore!H41","v":0},{"$f":"Simulatore!I41","v":0},{"$f":"Simulatore!J41","v":0},{"$f":"Simulatore!K41","v":0},{"$f":"Simulatore!L41","v":0},{"$f":"Simulatore!M41","v":0}]
[null,null,null,{"$f":"Simulatore!D42","v":0},{"$f":"Simulatore!E42","v":0},{"$f":"Simulatore!F42","v":0},{"$f":"Simulatore!G42","v":0},{"$f":"Simulatore!H42","v":0},{"$f":"Simulatore!I42","v":0},{"$f":"Simulatore!J42","v":0},{"$f":"Simulatore!K42","v":0},{"$f":"Simulatore!L42","v":0},{"$f":"Simulatore!M42","v":0}]
[]
[]
[]
[]
[]
[]
[]
[]
[]
[]
[]
[null,null,null,{"$f":"LARGE(D2:M19,Simulatore!A4)","v":0},null,{"$f":"LARGE(D2:M19,Simulatore!A4+1)","v":0}]
[]
[]
[null,null,null,{"$f":"COUNTIF(D2:D25,\">=\"&$D$31)","v":18},{"$f":"COUNTIF(E2:E25,\">=\"&$D$31)","v":18},18,18,18,18,18,18,18,18,null,{"$f":"SUM(D34:N34)","v":180}]

{"sheet":"Preferenze lista 1","index":2,"n_rows":23,"n_cols":23,"rows_kept":23,"cut":false,"hidden":false,"merged":[[2,0,5,0],[22,3,23,20],[7,3,7,20],[19,1,19,2],[1,3,1,20],[18,1,18,2]]}
["SIMULATORE DI VOTO PREFERENZE ELEZIONE DEL CONSIGLIO METROPOLITANO DI VENEZIA - 9 agosto 2015 - (legge 56/2014)"]
[null,null,null,"E' possibile personalizzare inserendo i nominativi dei candidati di lista nelle celle sottostanti, ove indicato dalla freccia."]
["LISTA 1","Voti di lista",{"$f":"Simulatore!D16","v":0}]
[null,"Seggi assegnati",{"$f":"Simulatore!D46","v":0},{"$f":"IF(D7>$C$5,\" \",\"Candid.\")","v":" "}," "," "," "," "," "," ",{"$f":"IF(K7>$C$5,\" \",\"Candid.\")","v":" "}," ",{"$f":"IF(M7>$C$5,\" \",\"Candid.\")","v":" "},{"$f":"IF(N7>$C$5,\" \",\"Candid.\")","v":" "},{"$f":"IF(O7>$C$5,\" \",\"Candid.\")","v":" "}," "," "," "," "," "," "]
[null,"N. Candidati",{"$f":"Simulatore!D4","v":0},{"$f":"IF(D7>$C$5,\" \",D7)","v":" "}," "," "," "," "," "," "," "," "," ",{"$f":"IF(N7>$C$5,\" \",N7)","v":" "},{"$f":"IF(O7>$C$5,\" \",O7)","v":" "},{"$f":"IF(P7>$C$5,\" \",P7)","v":" "}," "," "," "," "," "]
[null,"Nominativi"]
[null,null,null,1,2,3,4,5,6,7,8,9,10,11,12,13,14,15,16,17,18]
["Fasce demografiche","Indici di ponderazione dei voti (presunti)","Colore scheda","N. PREFERENZE PER CANDIDATO \n(Inserire simulazione del voto di preferenza)\nAVVERTENZA: non utilizzare le funzioni di TAGLIA, COPIA ed INCOLLA o il TRASCINAMENTO CELLE per evitare di perdere i controlli sui dati.",null,null,null,null,null,null,null,null,null,null,null,null,null,null,null,null,null,null,"Voti ottenuti dalla lista"]
["fino 3.000",30,"AZZURRO",0,0,0,0,0,0,0,0,0,0,0,0,0,0,0,0,0,0,null,{"$f":"Simulatore!D7","v":0}]
["da 3.001 a 5.000",43,"ARANCIONE",0,0,0,0,0,0,0,0,0,0,0,0,0,0,0,0,0,0,null,{"$f":"Simulatore!D8","v":0}]
["da 5.001 a 10.000",76,"GRIGIO",0,0,0,0,0,0,0,0,0,0,0,0,0,0,0,0,0,0,null,{"$f":"Simulatore!D9","v":0}]
["da 10.001 a 30.000",99,"ROSSO",0,0,0,0,0,0,0,0,0,0,0,0,0,0,0,0,0,0,null,{"$f":"Simulatore!D10","v":0}]
["da 30.001 a 100.000",227,"VERDE",0,0,0,0,0,0,0,0,0,0,0,0,0,0,0,0,0,0,null,{"$f":"Simulatore!D11","v":0}]
["da 100.001 a 250.000",0,"VIOLA",0,0,0,0,0,0,0,0,0,0,0,0,0,0,0,0,0,0,null,{"$f":"Simulatore!D12","v":0}]
["da 250.001 a 500.000",932,"GIALLO",0,0,0,0,0,0,0,0,0,0,0,0,0,0,0,0,0,0,null,{"$f":"Simulatore!D13","v":0}]
["da 500.001 a 1.000.000",0,"MARRONE",0,0,0,0,0,0,0,0,0,0,0,0,0,0,0,0,0,0,null,{"$f":"Simulatore!D14","v":0}]
["oltre 1.000.000",0,"BLU",0,0,0,0,0,0,0,0,0,0,0,0,0,0,0,0,0,0,null,{"$f":"Simulatore!D15","v":0}]
[null,null,null,null,null,null,null,null,null,null,null,null,null,null,null,null,null,null,null,null,null,"Voti di lista",{"$f":"SUM(W9:W17)","v":0}]
[null,"N. preferenze ottenute per candidato",null,{"$f":"SUM(D9:D17)","v":0},{"$f":"SUM(E9:E17)","v":0},0,0,0,0,0,0,0,0,0,0,0,0,0,0,0,0,"Totale preferenze epresse",{"$f":"SUM(D19:U19)","v":0}]
[null,"Cifra individuale ponderata",null,{"$f":"(D9*$B$9+D10*$B$10+D11*$B$11+D12*$B$12+D13*$B$13+D14*$B$14+D15*$B$15+D16*$B$16+D17*$B$17)","v":0},0,0,0,0,0,0,0,0,0,0,0,0,0,0,0,0,0]
[null,{"$f":"IF($C$4+1=19,0,LARGE(D20:U20,$C$4+1))","v":0},{"$f":"LARGE(D20:U20,$C$4)","v":{"$error":"#NUM!"}},{"$f":"IF(D20>=$C$21,IF(D20>$C$21,\"ELETTO\",IF(($B$21=$C$21),\"parità\",\"ELETTO\")),\"non eletto\")","v":{"$error":"#NUM!"}},{"$f":"IF(E20>=$C$21,IF(E20>$C$21,\"ELETTO\",IF(($B$21=$C$21),\"parità\",\"ELETTO\")),\"non eletto\")","v":{"$error":"#NUM!"}},{"$f":"IF(F20>=$C$21,IF(F20>$C$21,\"ELETTO\",IF(($B$21=$C$21),\"parità\",\"ELETTO\")),\"non eletto\")","v":{"$error":"#NUM!"}},{"$error":"#NUM!"},{"$error":"#NUM!"},{"$error":"#NUM!"},{"$error":"#NUM!"},{"$error":"#NUM!"},{"$error":"#NUM!"},{"$error":"#NUM!"},{"$error":"#NUM!"},{"$error":"#NUM!"},{"$error":"#NUM!"},{"$error":"#NUM!"},{"$error":"#NUM!"},{"$error":"#NUM!"},{"$error":"#NUM!"},{"$error":"#NUM!"}]
[]
[null,null,null,"A parità di cifra individuale ponderata, e' proclamato  eletto il candidato appartenente al sesso meno rappresentato tra gli  eletti della lista; in caso di ulteriore parita', e'  proclamato  eletto  il candidato più giovane (art. 1 comma 38 legge 56/2014)"]

{"sheet":"Preferenze lista 2","index":3,"n_rows":23,"n_cols":23,"rows_kept":23,"cut":false,"hidden":false,"merged":[[22,3,23,20],[1,3,1,20],[2,0,5,0],[7,3,7,20],[18,1,18,2],[19,1,19,2]]}
["SIMULATORE DI VOTO PREFERENZE ELEZIONE DEL CONSIGLIO METROPOLITANO DI VENEZIA - 9 agosto 2015 - (legge 56/2014)"]
[null,null,null,"E' possibile personalizzare inserendo i nominativi dei candidati di lista nelle celle sottostanti, ove indicato dalla freccia."]
["LISTA 2","Voti di lista",{"$f":"Simulatore!E16","v":0}]
[null,"Seggi assegnati",{"$f":"Simulatore!E46","v":0},{"$f":"IF(D7>$C$5,\" \",\"Candid.\")","v":" "}," "," "," "," "," "," "," "," ",{"$f":"IF(M7>$C$5,\" \",\"Candid.\")","v":" "},{"$f":"IF(N7>$C$5,\" \",\"Candid.\")","v":" "},{"$f":"IF(O7>$C$5,\" \",\"Candid.\")","v":" "}," "," "," "," "," "," "]
[null,"N. Candidati",{"$f":"Simulatore!E4","v":0},{"$f":"IF(D7>$C$5,\" \",D7)","v":" "}," "," "," "," "," "," "," "," "," ",{"$f":"IF(N7>$C$5,\" \",N7)","v":" "},{"$f":"IF(O7>$C$5,\" \",O7)","v":" "},{"$f":"IF(P7>$C$5,\" \",P7)","v":" "}," "," "," "," "," "]
[null,"Nominativi"]
[null,null,null,1,2,3,4,5,6,7,8,9,10,11,12,13,14,15,16,17,18]
["Fasce demografiche","Indici di ponderazione dei voti (presunti)","Colore scheda","N. PREFERENZE PER CANDIDATO \n(Inserire simulazione del voto di preferenza)\nAVVERTENZA: non utilizzare le funzioni di TAGLIA, COPIA ed INCOLLA o il TRASCINAMENTO CELLE per evitare di perdere i controlli sui dati.",null,null,null,null,null,null,null,null,null,null,null,null,null,null,null,null,null,null,"Voti ottenuti dalla lista"]
["fino 3.000",30,"AZZURRO",0,0,0,0,0,0,0,0,0,0,0,0,0,0,0,0,0,0,null,{"$f":"Simulatore!E7","v":0}]
["da 3.001 a 5.000",43,"ARANCIONE",0,0,0,0,0,0,0,0,0,0,0,0,0,0,0,0,0,0,null,{"$f":"Simulatore!E8","v":0}]
["da 5.001 a 10.000",76,"GRIGIO",0,0,0,0,0,0,0,0,0,0,0,0,0,0,0,0,0,0,null,{"$f":"Simulatore!E9","v":0}]
["da 10.001 a 30.000",99,"ROSSO",0,0,0,0,0,0,0,0,0,0,0,0,0,0,0,0,0,0,null,{"$f":"Simulatore!E10","v":0}]
["da 30.001 a 100.000",227,"VERDE",0,0,0,0,0,0,0,0,0,0,0,0,0,0,0,0,0,0,null,{"$f":"Simulatore!E11","v":0}]
["da 100.001 a 250.000",0,"VIOLA",0,0,0,0,0,0,0,0,0,0,0,0,0,0,0,0,0,0,null,{"$f":"Simulatore!E12","v":0}]
["da 250.001 a 500.000",932,"GIALLO",0,0,0,0,0,0,0,0,0,0,0,0,0,0,0,0,0,0,null,{"$f":"Simulatore!E13","v":0}]
["da 500.001 a 1.000.000",0,"MARRONE",0,0,0,0,0,0,0,0,0,0,0,0,0,0,0,0,0,0,null,{"$f":"Simulatore!E14","v":0}]
["oltre 1.000.000",0,"BLU",0,0,0,0,0,0,0,0,0,0,0,0,0,0,0,0,0,0,null,{"$f":"Simulatore!E15","v":0}]
[null,null,null,null,null,null,null,null,null,null,null,null,null,null,null,null,null,null,null,null,null,"Voti di lista",{"$f":"SUM(W9:W17)","v":0}]
[null,"N. preferenze ottenute per candidato",null,{"$f":"SUM(D9:D17)","v":0},{"$f":"SUM(E9:E17)","v":0},0,0,0,0,0,0,0,0,0,0,0,0,0,0,0,0,"Totale preferenze epresse",{"$f":"SUM(D19:U19)","v":0}]
[null,"Cifra individuale ponderata",null,{"$f":"(D9*$B$9+D10*$B$10+D11*$B$11+D12*$B$12+D13*$B$13+D14*$B$14+D15*$B$15+D16*$B$16+D17*$B$17)","v":0},0,0,0,0,0,0,0,0,0,0,0,0,0,0,0,0,0]
[null,{"$f":"IF($C$4+1=19,0,LARGE(D20:U20,$C$4+1))","v":0},{"$f":"LARGE(D20:U20,$C$4)","v":{"$error":"#NUM!"}},{"$f":"IF(D20>=$C$21,IF(D20>$C$21,\"ELETTO\",IF(($B$21=$C$21),\"parità\",\"ELETTO\")),\"non eletto\")","v":{"$error":"#NUM!"}},{"$f":"IF(E20>=$C$21,IF(E20>$C$21,\"ELETTO\",IF(($B$21=$C$21),\"parità\",\"ELETTO\")),\"non eletto\")","v":{"$error":"#NUM!"}},{"$f":"IF(F20>=$C$21,IF(F20>$C$21,\"ELETTO\",IF(($B$21=$C$21),\"parità\",\"ELETTO\")),\"non eletto\")","v":{"$error":"#NUM!"}},{"$error":"#NUM!"},{"$error":"#NUM!"},{"$error":"#NUM!"},{"$error":"#NUM!"},{"$error":"#NUM!"},{"$error":"#NUM!"},{"$error":"#NUM!"},{"$error":"#NUM!"},{"$error":"#NUM!"},{"$error":"#NUM!"},{"$error":"#NUM!"},{"$error":"#NUM!"},{"$error":"#NUM!"},{"$error":"#NUM!"},{"$error":"#NUM!"}]
[]
[null,null,null,"A parità di cifra individuale ponderata, e' proclamato  eletto il candidato appartenente al sesso meno rappresentato tra gli  eletti della lista; in caso di ulteriore parita', e'  proclamato  eletto  il candidato più giovane (art. 1 comma 38 legge 56/2014)"]

{"sheet":"Preferenze lista 3","index":4,"n_rows":23,"n_cols":23,"rows_kept":23,"cut":false,"hidden":false,"merged":[[22,3,23,20],[1,3,1,20],[2,0,5,0],[7,3,7,20],[18,1,18,2],[19,1,19,2]]}
["SIMULATORE DI VOTO PREFERENZE ELEZIONE DEL CONSIGLIO METROPOLITANO DI VENEZIA - 9 agosto 2015 - (legge 56/2014)"]
[null,null,null,"E' possibile personalizzare inserendo i nominativi dei candidati di lista nelle celle sottostanti, ove indicato dalla freccia."]
["LISTA 3","Voti di lista",{"$f":"Simulatore!F16","v":0}]
[null,"Seggi assegnati",{"$f":"Simulatore!F46","v":0},{"$f":"IF(D7>$C$5,\" \",\"Candid.\")","v":" "}," "," "," "," "," "," "," "," ",{"$f":"IF(M7>$C$5,\" \",\"Candid.\")","v":" "},{"$f":"IF(N7>$C$5,\" \",\"Candid.\")","v":" "},{"$f":"IF(O7>$C$5,\" \",\"Candid.\")","v":" "}," "," "," "," "," "," "]
[null,"N. Candidati",{"$f":"Simulatore!F4","v":0},{"$f":"IF(D7>$C$5,\" \",D7)","v":" "}," "," "," "," "," "," "," "," "," ",{"$f":"IF(N7>$C$5,\" \",N7)","v":" "},{"$f":"IF(O7>$C$5,\" \",O7)","v":" "},{"$f":"IF(P7>$C$5,\" \",P7)","v":" "}," "," "," "," "," "]
[null,"Nominativi"]
[null,null,null,1,2,3,4,5,6,7,8,9,10,11,12,13,14,15,16,17,18]
["Fasce demografiche","Indici di ponderazione dei voti (presunti)","Colore scheda","N. PREFERENZE PER CANDIDATO \n(Inserire simulazione del voto di preferenza)\nAVVERTENZA: non utilizzare le funzioni di TAGLIA, COPIA ed INCOLLA o il TRASCINAMENTO CELLE per evitare di perdere i controlli sui dati.",null,null,null,null,null,null,null,null,null,null,null,null,null,null,null,null,null,null,"Voti ottenuti dalla lista"]
["fino 3.000",30,"AZZURRO",0,0,0,0,0,0,0,0,0,0,0,0,0,0,0,0,0,0,null,{"$f":"Simulatore!F7","v":0}]
["da 3.001 a 5.000",43,"ARANCIONE",0,0,0,0,0,0,0,0,0,0,0,0,0,0,0,0,0,0,null,{"$f":"Simulatore!F8","v":0}]
["da 5.001 a 10.000",76,"GRIGIO",0,0,0,0,0,0,0,0,0,0,0,0,0,0,0,0,0,0,null,{"$f":"Simulatore!F9","v":0}]
["da 10.001 a 30.000",99,"ROSSO",0,0,0,0,0,0,0,0,0,0,0,0,0,0,0,0,0,0,null,{"$f":"Simulatore!F10","v":0}]
["da 30.001 a 100.000",227,"VERDE",0,0,0,0,0,0,0,0,0,0,0,0,0,0,0,0,0,0,null,{"$f":"Simulatore!F11","v":0}]
["da 100.001 a 250.000",0,"VIOLA",0,0,0,0,0,0,0,0,0,0,0,0,0,0,0,0,0,0,null,{"$f":"Simulatore!F12","v":0}]
["da 250.001 a 500.000",932,"GIALLO",0,0,0,0,0,0,0,0,0,0,0,0,0,0,0,0,0,0,null,{"$f":"Simulatore!F13","v":0}]
["da 500.001 a 1.000.000",0,"MARRONE",0,0,0,0,0,0,0,0,0,0,0,0,0,0,0,0,0,0,null,{"$f":"Simulatore!F14","v":0}]
["oltre 1.000.000",0,"BLU",0,0,0,0,0,0,0,0,0,0,0,0,0,0,0,0,0,0,null,{"$f":"Simulatore!F15","v":0}]
[null,null,null,null,null,null,null,null,null,null,null,null,null,null,null,null,null,null,null,null,null,"Voti di lista",{"$f":"SUM(W9:W17)","v":0}]
[null,"N. preferenze ottenute per candidato",null,{"$f":"SUM(D9:D17)","v":0},{"$f":"SUM(E9:E17)","v":0},0,0,0,0,0,0,0,0,0,0,0,0,0,0,0,0,"Totale preferenze epresse",{"$f":"SUM(D19:U19)","v":0}]
[null,"Cifra individuale ponderata",null,{"$f":"(D9*$B$9+D10*$B$10+D11*$B$11+D12*$B$12+D13*$B$13+D14*$B$14+D15*$B$15+D16*$B$16+D17*$B$17)","v":0},0,0,0,0,0,0,0,0,0,0,0,0,0,0,0,0,0]
[null,{"$f":"IF($C$4+1=19,0,LARGE(D20:U20,$C$4+1))","v":0},{"$f":"LARGE(D20:U20,$C$4)","v":{"$error":"#NUM!"}},{"$f":"IF(D20>=$C$21,IF(D20>$C$21,\"ELETTO\",IF(($B$21=$C$21),\"parità\",\"ELETTO\")),\"non eletto\")","v":{"$error":"#NUM!"}},{"$f":"IF(E20>=$C$21,IF(E20>$C$21,\"ELETTO\",IF(($B$21=$C$21),\"parità\",\"ELETTO\")),\"non eletto\")","v":{"$error":"#NUM!"}},{"$f":"IF(F20>=$C$21,IF(F20>$C$21,\"ELETTO\",IF(($B$21=$C$21),\"parità\",\"ELETTO\")),\"non eletto\")","v":{"$error":"#NUM!"}},{"$error":"#NUM!"},{"$error":"#NUM!"},{"$error":"#NUM!"},{"$error":"#NUM!"},{"$error":"#NUM!"},{"$error":"#NUM!"},{"$error":"#NUM!"},{"$error":"#NUM!"},{"$error":"#NUM!"},{"$error":"#NUM!"},{"$error":"#NUM!"},{"$error":"#NUM!"},{"$error":"#NUM!"},{"$error":"#NUM!"},{"$error":"#NUM!"}]
[]
[null,null,null,"A parità di cifra individuale ponderata, e' proclamato  eletto il candidato appartenente al sesso meno rappresentato tra gli  eletti della lista; in caso di ulteriore parita', e'  proclamato  eletto  il candidato più giovane (art. 1 comma 38 legge 56/2014)"]

{"sheet":"Comuni e fasce","index":5,"n_rows":64,"n_cols":9,"rows_kept":64,"cut":false,"hidden":false,"merged":[[49,6,51,6],[1,6,2,6],[5,6,10,6],[13,6,22,6],[25,6,46,6],[53,0,53,5],[55,0,55,5],[58,0,58,5],[60,0,60,5],[25,0,46,0],[25,1,46,1],[25,2,46,2],[48,0,48,5],[49,0,51,0],[49,1,51,1],[49,2,51,2],[12,0,12,5],[13,0,22,0],[13,1,22,1],[13,2,22,2],[24,0,24,5],[1,0,2,0],[1,1,2,1],[1,2,2,2],[4,0,4,5],[5,0,10,0],[5,1,10,1],[5,2,10,2]]}
[null,"FASCE DEMOGRAFICHE","N. COMUNI",null,"COMUNI",null,"INDICE PONDERAZIONE","Numero consiglieri e sindaci"]
["a","fino a 3.000",2,1,"GRUARO",2802,30,11]
[null,null,null,2,"TEGLIO VENETO",2325,null,11]
[null,null,null,null,"totale",{"$f":"SUM(F2:F3)","v":5127},"totale",{"$f":"SUM(H2:H3)","v":22}]
[]
["b","da 3.001 a 5.000 ",6,1,"ANNONE VENETO",3976,43,13]
[null,null,null,2,"CINTO CAOMAGGIORE",3285,null,13]
[null,null,null,3,"CONA",3175,null,13]
[null,null,null,4,"FOSSALTA DI PIAVE",4214,null,13]
[null,null,null,5,"PRAMAGGIORE",4640,null,8]
[null,null,null,6,"TORRE DI MOSTO",4739,null,13]
[null,null,null,null,"totale",{"$f":"SUM(F6:F11)","v":24029},"totale",{"$f":"SUM(H6:H11)","v":73}]
[]
["c","da 5.001 a 10.000",10,1,"CAMPAGNA LUPIA",6936,76,11]
[null,null,null,2,"CEGGIA",6213,null,13]
[null,null,null,3,"FIESSO D'ARTICO",7728,null,13]
[null,null,null,4,"FOSSALTA DI PORTOGRUARO",6075,null,13]
[null,null,null,5,"FOSSO'",6786,null,13]
[null,null,null,6,"MEOLO",6465,null,13]
[null,null,null,7,"NOVENTA DI PIAVE",6843,null,11]
[null,null,null,8,"QUARTO D'ALTINO",8199,null,13]
[null,null,null,9,"STRA",7566,null,13]
[null,null,null,10,"VIGONOVO",9892,null,13]
[null,null,null,null,"totale",{"$f":"SUM(F14:F23)","v":72703},"totale",{"$f":"SUM(H14:H23)","v":126}]
[]
["d","da 10.001 a 30.000",22,1,"CAMPOLONGO MAGGIORE",10342,99,13]
[null,null,null,2,"CAMPONOGARA",12920,null,17]
[null,null,null,3,"CAORLE",0,null,0,"Commissariato"]
[null,null,null,4,"CAVALLINO-TREPORTI",13162,null,17]
[null,null,null,5,"CAVARZERE",14816,null,17]
[null,null,null,6,"CONCORDIA SAGITTARIA",10640,null,17]
[null,null,null,7,"DOLO",14982,null,17]
[null,null,null,8,"ERACLEA",12689,null,17]
[null,null,null,9,"JESOLO",24479,null,17]
[null,null,null,10,"MARCON",16215,null,17]
[null,null,null,11,"MARTELLAGO",21171,null,17]
[null,null,null,12,"MIRANO",26456,null,17]
[null,null,null,13,"MUSILE DI PIAVE",11518,null,16]
[null,null,null,14,"NOALE",15708,null,17]
[null,null,null,15,"PIANIGA",11968,null,17]
[null,null,null,16,"PORTOGRUARO",25140,null,17]
[null,null,null,17,"SALZANO",12678,null,17]
[null,null,null,18,"S. MICHELE AL TAGLIAMENTO",12028,null,17]
[null,null,null,19,"S. STINO DI LIVENZA",13042,null,17]
[null,null,null,20,"S. MARIA DI SALA",17295,null,17]
[null,null,null,21,"SCORZE'",18904,null,17]
[null,null,null,22,"SPINEA",26862,null,17]
[null,null,null,null,"totale",{"$f":"SUM(F26:F47)","v":343015},"totale",{"$f":"SUM(H26:H47)","v":352}]
[]
["e","da 30.001 a 100.000",3,1,"CHIOGGIA",49735,227,25]
[null,null,null,2,"MIRA",38552,null,25]
[null,null,null,3,"S. DONA' DI PIAVE",40646,null,25]
[null,null,null,null,"totale",{"$f":"SUM(F50:F52)","v":128933},"totale",{"$f":"SUM(H50:H52)","v":75}]
[]
["f","da 100.001 a 250.000",0]
[]
["g","da 250.001 a 500.000",1,1,"VENEZIA",261362,932,37]
[null,null,null,null,null,{"$f":"SUM(F57)","v":261362},"totale",{"$f":"SUM(H57)","v":37}]
[]
["h","da 500.001 a 1.000.000",0,null,null,null,"tot",{"$f":"H4+H12+H24+H48+H53+H58","v":685}]
[]
["i","oltre 1.000.001 ",0]
[]
[null,null,"totale comuni",{"$f":"C2+C6+C14+C26+C50+C57","v":44},"totale popolazione provincia",{"$f":"(F4+F12+F24+F48+F53+F58)","v":835169},null,"(tolti comuni commissariati)"]